Package: RNAmodR.RiboMethSeq Version: 1.23.1 Command: /Library/Frameworks/R.framework/Resources/bin/R CMD build --keep-empty-dirs --no-resave-data RNAmodR.RiboMethSeq StartedAt: 2025-09-30 18:32:29 -0400 (Tue, 30 Sep 2025) EndedAt: 2025-09-30 18:34:56 -0400 (Tue, 30 Sep 2025) EllapsedTime: 146.4 seconds RetCode: 0 Status: OK PackageFile: RNAmodR.RiboMethSeq_1.23.1.tar.gz PackageFileSize: 638.8 KiB