Package: RNAmodR.RiboMethSeq Version: 1.23.1 Maintainer: Felix G.M. Ernst MaintainerEmail: felix.gm.ernst at outlook.com git_url: https://git.bioconductor.org/packages/RNAmodR.RiboMethSeq git_branch: devel git_last_commit: 2bacaeb git_last_commit_date: 2025-09-23 16:47:20 -0400 (Tue, 23 Sep 2025)