Package: RNAmodR.ML Version: 1.25.0 Command: /home/biocbuild/bbs-3.23-bioc/R/bin/R CMD INSTALL RNAmodR.ML StartedAt: 2025-11-13 15:48:48 -0500 (Thu, 13 Nov 2025) EndedAt: 2025-11-13 15:49:48 -0500 (Thu, 13 Nov 2025) EllapsedTime: 60.2 seconds RetCode: 0 Status: OK