Package: RNAmodR.ML Version: 1.23.0 Command: /Library/Frameworks/R.framework/Resources/bin/R CMD INSTALL RNAmodR.ML StartedAt: 2025-10-17 15:25:00 -0400 (Fri, 17 Oct 2025) EndedAt: 2025-10-17 15:25:25 -0400 (Fri, 17 Oct 2025) EllapsedTime: 25.0 seconds RetCode: 0 Status: OK