Package: RFLOMICS Version: 1.1.4 Command: /home/biocbuild/bbs-3.22-bioc/R/bin/R CMD INSTALL RFLOMICS StartedAt: 2025-10-06 15:46:46 -0400 (Mon, 06 Oct 2025) EndedAt: 2025-10-06 15:47:39 -0400 (Mon, 06 Oct 2025) EllapsedTime: 53.2 seconds RetCode: 0 Status: OK