Package: RFLOMICS Version: 1.1.4 Command: /home/biocbuild/bbs-3.22-bioc/R/bin/R CMD build --keep-empty-dirs --no-resave-data --md5 RFLOMICS StartedAt: 2025-10-06 19:35:41 -0400 (Mon, 06 Oct 2025) EndedAt: 2025-10-06 19:38:01 -0400 (Mon, 06 Oct 2025) EllapsedTime: 140.1 seconds RetCode: 0 Status: OK PackageFile: RFLOMICS_1.1.4.tar.gz PackageFileSize: 5.187 MiB