Package: RESOLVE Version: 1.11.2 Command: /home/biocbuild/bbs-3.22-bioc/R/bin/R CMD build --keep-empty-dirs --no-resave-data --md5 RESOLVE StartedAt: 2025-10-27 19:36:21 -0400 (Mon, 27 Oct 2025) EndedAt: 2025-10-27 19:37:22 -0400 (Mon, 27 Oct 2025) EllapsedTime: 61.1 seconds RetCode: 0 Status: OK PackageFile: RESOLVE_1.11.2.tar.gz PackageFileSize: 858.5 KiB