Package: RDRToolbox Version: 1.59.0 Command: /home/biocbuild/bbs-3.22-bioc/R/bin/R CMD INSTALL RDRToolbox StartedAt: 2025-10-05 15:06:40 -0400 (Sun, 05 Oct 2025) EndedAt: 2025-10-05 15:07:17 -0400 (Sun, 05 Oct 2025) EllapsedTime: 36.4 seconds RetCode: 0 Status: OK