Package: RCSL Version: 1.17.0 Command: /home/biocbuild/bbs-3.22-bioc/R/bin/R CMD build --keep-empty-dirs --no-resave-data --md5 RCSL StartedAt: 2025-10-05 19:37:05 -0400 (Sun, 05 Oct 2025) EndedAt: 2025-10-05 19:37:33 -0400 (Sun, 05 Oct 2025) EllapsedTime: 28.1 seconds RetCode: 0 Status: OK PackageFile: RCSL_1.17.0.tar.gz PackageFileSize: 1.961 MiB