Package: R453Plus1Toolbox Version: 1.59.0 Command: /home/biocbuild/bbs-3.22-bioc/R/bin/R CMD build --keep-empty-dirs --no-resave-data --md5 R453Plus1Toolbox StartedAt: 2025-10-05 19:32:22 -0400 (Sun, 05 Oct 2025) EndedAt: 2025-10-05 19:33:48 -0400 (Sun, 05 Oct 2025) EllapsedTime: 86.1 seconds RetCode: 1 Status: ERROR PackageFile: None PackageFileSize: NA