Package: QuaternaryProd Version: 1.45.0 Command: /Library/Frameworks/R.framework/Resources/bin/R CMD INSTALL QuaternaryProd StartedAt: 2025-11-24 15:15:44 -0500 (Mon, 24 Nov 2025) EndedAt: 2025-11-24 15:16:05 -0500 (Mon, 24 Nov 2025) EllapsedTime: 20.7 seconds RetCode: 0 Status: OK