Package: QuaternaryProd Version: 1.45.0 Command: rm -rf QuaternaryProd.buildbin-libdir && mkdir QuaternaryProd.buildbin-libdir && /Users/biocbuild/BBS/utils/build-universal.sh QuaternaryProd_1.45.0.tar.gz /Library/Frameworks/R.framework/Resources/bin/R QuaternaryProd.buildbin-libdir StartedAt: 2025-11-24 01:52:58 -0500 (Mon, 24 Nov 2025) EndedAt: 2025-11-24 01:53:25 -0500 (Mon, 24 Nov 2025) EllapsedTime: 27.7 seconds RetCode: 0 Status: OK PackageFile: QuaternaryProd_1.45.0.tgz PackageFileSize: 10.89 MiB