Package: QuaternaryProd Version: 1.45.0 Command: /Library/Frameworks/R.framework/Resources/bin/R CMD INSTALL QuaternaryProd StartedAt: 2025-11-14 15:05:31 -0500 (Fri, 14 Nov 2025) EndedAt: 2025-11-14 15:05:39 -0500 (Fri, 14 Nov 2025) EllapsedTime: 7.6 seconds RetCode: 0 Status: OK