Package: QuaternaryProd Version: 1.45.0 Command: /Library/Frameworks/R.framework/Resources/bin/R CMD build --keep-empty-dirs --no-resave-data QuaternaryProd StartedAt: 2025-11-14 17:22:00 -0500 (Fri, 14 Nov 2025) EndedAt: 2025-11-14 17:24:35 -0500 (Fri, 14 Nov 2025) EllapsedTime: 154.8 seconds RetCode: 0 Status: OK PackageFile: QuaternaryProd_1.45.0.tar.gz PackageFileSize: 10.75 MiB