Package: QuaternaryProd Version: 1.45.0 Command: rm -rf QuaternaryProd.buildbin-libdir && mkdir QuaternaryProd.buildbin-libdir && /Users/biocbuild/BBS/utils/build-universal.sh QuaternaryProd_1.45.0.tar.gz /Library/Frameworks/R.framework/Resources/bin/R QuaternaryProd.buildbin-libdir StartedAt: 2025-11-14 23:46:48 -0500 (Fri, 14 Nov 2025) EndedAt: 2025-11-14 23:46:57 -0500 (Fri, 14 Nov 2025) EllapsedTime: 9.2 seconds RetCode: 0 Status: OK PackageFile: QuaternaryProd_1.45.0.tgz PackageFileSize: 10.9 MiB