Package: QSutils Version: 1.27.0 Command: /home/biocbuild/bbs-3.22-bioc/R/bin/R CMD INSTALL QSutils StartedAt: 2025-10-08 16:07:31 -0400 (Wed, 08 Oct 2025) EndedAt: 2025-10-08 16:07:45 -0400 (Wed, 08 Oct 2025) EllapsedTime: 13.8 seconds RetCode: 0 Status: OK