Package: QSutils Version: 1.27.0 Command: /home/biocbuild/bbs-3.22-bioc/R/bin/R CMD build --keep-empty-dirs --no-resave-data --md5 QSutils StartedAt: 2025-10-08 19:51:02 -0400 (Wed, 08 Oct 2025) EndedAt: 2025-10-08 19:52:21 -0400 (Wed, 08 Oct 2025) EllapsedTime: 79.1 seconds RetCode: 0 Status: OK PackageFile: QSutils_1.27.0.tar.gz PackageFileSize: 1.642 MiB