Package: QFeatures Version: 1.19.2 Command: /home/biocbuild/bbs-3.22-bioc/R/bin/R CMD INSTALL QFeatures StartedAt: 2025-09-30 15:34:40 -0400 (Tue, 30 Sep 2025) EndedAt: 2025-09-30 15:35:09 -0400 (Tue, 30 Sep 2025) EllapsedTime: 28.6 seconds RetCode: 0 Status: OK