Package: Pviz Version: 1.43.0 Command: /home/biocbuild/bbs-3.22-bioc/R/bin/R CMD build --keep-empty-dirs --no-resave-data --md5 Pviz StartedAt: 2025-10-27 19:26:28 -0400 (Mon, 27 Oct 2025) EndedAt: 2025-10-27 19:28:17 -0400 (Mon, 27 Oct 2025) EllapsedTime: 108.1 seconds RetCode: 0 Status: OK PackageFile: Pviz_1.43.0.tar.gz PackageFileSize: 204.1 KiB