Package: ProtGenerics Version: 1.43.0 Command: /Library/Frameworks/R.framework/Resources/bin/R CMD INSTALL ProtGenerics StartedAt: 2025-11-20 15:10:36 -0500 (Thu, 20 Nov 2025) EndedAt: 2025-11-20 15:10:45 -0500 (Thu, 20 Nov 2025) EllapsedTime: 9.0 seconds RetCode: 0 Status: OK