Package: ProtGenerics Version: 1.43.0 Command: /Library/Frameworks/R.framework/Resources/bin/R CMD build --keep-empty-dirs --no-resave-data ProtGenerics StartedAt: 2025-11-20 18:16:26 -0500 (Thu, 20 Nov 2025) EndedAt: 2025-11-20 18:16:27 -0500 (Thu, 20 Nov 2025) EllapsedTime: 1.2 seconds RetCode: 0 Status: OK PackageFile: ProtGenerics_1.43.0.tar.gz PackageFileSize: 10.88 KiB