Package: ProtGenerics Version: 1.43.0 Command: /Library/Frameworks/R.framework/Resources/bin/R CMD INSTALL ProtGenerics StartedAt: 2025-11-14 15:02:11 -0500 (Fri, 14 Nov 2025) EndedAt: 2025-11-14 15:02:15 -0500 (Fri, 14 Nov 2025) EllapsedTime: 3.3 seconds RetCode: 0 Status: OK