Package: PolySTest Version: 1.3.1 Command: /home/biocbuild/bbs-3.22-bioc/R/bin/R CMD INSTALL PolySTest StartedAt: 2025-09-30 15:18:37 -0400 (Tue, 30 Sep 2025) EndedAt: 2025-09-30 15:19:04 -0400 (Tue, 30 Sep 2025) EllapsedTime: 27.0 seconds RetCode: 0 Status: OK