Package: PolySTest Version: 1.3.1 Command: /home/biocbuild/bbs-3.22-bioc/R/bin/R CMD build --keep-empty-dirs --no-resave-data --md5 PolySTest StartedAt: 2025-09-30 19:20:09 -0400 (Tue, 30 Sep 2025) EndedAt: 2025-09-30 19:21:57 -0400 (Tue, 30 Sep 2025) EllapsedTime: 108.1 seconds RetCode: 0 Status: OK PackageFile: PolySTest_1.3.1.tar.gz PackageFileSize: 2.105 MiB