Package: PhIPData Version: 1.17.0 Command: /home/biocbuild/bbs-3.22-bioc/R/bin/R CMD INSTALL PhIPData StartedAt: 2025-10-27 15:55:43 -0400 (Mon, 27 Oct 2025) EndedAt: 2025-10-27 15:56:10 -0400 (Mon, 27 Oct 2025) EllapsedTime: 27.5 seconds RetCode: 0 Status: OK