Package: PhIPData Version: 1.17.0 Command: /home/biocbuild/bbs-3.22-bioc/R/bin/R CMD build --keep-empty-dirs --no-resave-data --md5 PhIPData StartedAt: 2025-10-27 19:18:10 -0400 (Mon, 27 Oct 2025) EndedAt: 2025-10-27 19:18:52 -0400 (Mon, 27 Oct 2025) EllapsedTime: 42.0 seconds RetCode: 0 Status: OK PackageFile: PhIPData_1.17.0.tar.gz PackageFileSize: 821.3 KiB