Package: PathNet Version: 1.51.0 Command: /home/biocbuild/bbs-3.23-bioc/R/bin/R CMD build --keep-empty-dirs --no-resave-data PathNet StartedAt: 2025-11-21 19:14:45 -0500 (Fri, 21 Nov 2025) EndedAt: 2025-11-21 19:15:43 -0500 (Fri, 21 Nov 2025) EllapsedTime: 58.0 seconds RetCode: 0 Status: OK PackageFile: PathNet_1.51.0.tar.gz PackageFileSize: 823.9 KiB