Package: PathNet Version: 1.51.0 Command: /Library/Frameworks/R.framework/Resources/bin/R CMD INSTALL PathNet StartedAt: 2025-11-17 15:03:51 -0500 (Mon, 17 Nov 2025) EndedAt: 2025-11-17 15:04:11 -0500 (Mon, 17 Nov 2025) EllapsedTime: 20.0 seconds RetCode: 0 Status: OK