Package: PathNet Version: 1.51.0 Command: /Library/Frameworks/R.framework/Resources/bin/R CMD build --keep-empty-dirs --no-resave-data PathNet StartedAt: 2025-11-17 18:21:01 -0500 (Mon, 17 Nov 2025) EndedAt: 2025-11-17 18:22:23 -0500 (Mon, 17 Nov 2025) EllapsedTime: 81.9 seconds RetCode: 0 Status: OK PackageFile: PathNet_1.51.0.tar.gz PackageFileSize: 823 KiB