Package: PIUMA Version: 1.7.0 Command: /home/biocbuild/bbs-3.23-bioc/R/bin/R CMD INSTALL PIUMA StartedAt: 2025-11-25 15:23:28 -0500 (Tue, 25 Nov 2025) EndedAt: 2025-11-25 15:23:57 -0500 (Tue, 25 Nov 2025) EllapsedTime: 28.5 seconds RetCode: 0 Status: OK