Package: PIUMA Version: 1.7.0 Command: /Library/Frameworks/R.framework/Resources/bin/R CMD INSTALL PIUMA StartedAt: 2025-11-20 15:29:21 -0500 (Thu, 20 Nov 2025) EndedAt: 2025-11-20 15:30:00 -0500 (Thu, 20 Nov 2025) EllapsedTime: 38.9 seconds RetCode: 0 Status: OK