Package: PIUMA Version: 1.7.0 Command: /Library/Frameworks/R.framework/Resources/bin/R CMD build --keep-empty-dirs --no-resave-data PIUMA StartedAt: 2025-11-20 18:12:53 -0500 (Thu, 20 Nov 2025) EndedAt: 2025-11-20 18:14:21 -0500 (Thu, 20 Nov 2025) EllapsedTime: 88.2 seconds RetCode: 1 Status: ERROR PackageFile: None PackageFileSize: NA