Package: PIUMA Version: 1.7.0 Command: /Library/Frameworks/R.framework/Resources/bin/R CMD build --keep-empty-dirs --no-resave-data PIUMA StartedAt: 2025-11-13 17:20:31 -0500 (Thu, 13 Nov 2025) EndedAt: 2025-11-13 17:21:03 -0500 (Thu, 13 Nov 2025) EllapsedTime: 32.4 seconds RetCode: 1 Status: ERROR PackageFile: None PackageFileSize: NA