Package: PICB Version: 1.1.1 Command: /home/biocbuild/bbs-3.22-bioc/R/bin/R CMD INSTALL PICB StartedAt: 2025-10-05 15:25:54 -0400 (Sun, 05 Oct 2025) EndedAt: 2025-10-05 15:25:56 -0400 (Sun, 05 Oct 2025) EllapsedTime: 2.1 seconds RetCode: 0 Status: OK