Package: PICB Version: 1.1.1 Command: /home/biocbuild/bbs-3.22-bioc/R/bin/R CMD build --keep-empty-dirs --no-resave-data --md5 PICB StartedAt: 2025-10-05 19:21:40 -0400 (Sun, 05 Oct 2025) EndedAt: 2025-10-05 19:23:13 -0400 (Sun, 05 Oct 2025) EllapsedTime: 93.1 seconds RetCode: 0 Status: OK PackageFile: PICB_1.1.1.tar.gz PackageFileSize: 4.676 MiB