Package: PCAtools Version: 2.23.0 Command: /home/biocbuild/bbs-3.23-bioc/R/bin/R CMD INSTALL PCAtools StartedAt: 2025-11-20 15:52:20 -0500 (Thu, 20 Nov 2025) EndedAt: 2025-11-20 15:52:55 -0500 (Thu, 20 Nov 2025) EllapsedTime: 34.6 seconds RetCode: 0 Status: OK