Package: PCAtools Version: 2.23.0 Command: /home/biocbuild/bbs-3.23-bioc/R/bin/R CMD build --keep-empty-dirs --no-resave-data PCAtools StartedAt: 2025-11-20 19:14:27 -0500 (Thu, 20 Nov 2025) EndedAt: 2025-11-20 19:16:48 -0500 (Thu, 20 Nov 2025) EllapsedTime: 141.2 seconds RetCode: 1 Status: ERROR PackageFile: None PackageFileSize: NA