Package: PCAtools Version: 2.23.0 Command: /Library/Frameworks/R.framework/Resources/bin/R CMD INSTALL PCAtools StartedAt: 2025-11-17 15:46:15 -0500 (Mon, 17 Nov 2025) EndedAt: 2025-11-17 15:46:59 -0500 (Mon, 17 Nov 2025) EllapsedTime: 43.8 seconds RetCode: 0 Status: OK