Package: PCAtools Version: 2.23.0 Command: /Library/Frameworks/R.framework/Resources/bin/R CMD build --keep-empty-dirs --no-resave-data PCAtools StartedAt: 2025-11-17 18:22:23 -0500 (Mon, 17 Nov 2025) EndedAt: 2025-11-17 18:25:13 -0500 (Mon, 17 Nov 2025) EllapsedTime: 170.4 seconds RetCode: 1 Status: ERROR PackageFile: None PackageFileSize: NA