Package: PADOG Version: 1.51.0 Command: /home/biocbuild/bbs-3.22-bioc/R/bin/R CMD INSTALL PADOG StartedAt: 2025-10-22 15:29:29 -0400 (Wed, 22 Oct 2025) EndedAt: 2025-10-22 15:29:43 -0400 (Wed, 22 Oct 2025) EllapsedTime: 13.6 seconds RetCode: 0 Status: OK