Package: Oscope Version: 1.39.0 Command: /home/biocbuild/bbs-3.22-bioc/R/bin/R CMD build --keep-empty-dirs --no-resave-data --md5 Oscope StartedAt: 2025-10-08 19:32:26 -0400 (Wed, 08 Oct 2025) EndedAt: 2025-10-08 19:35:30 -0400 (Wed, 08 Oct 2025) EllapsedTime: 184.2 seconds RetCode: 0 Status: OK PackageFile: Oscope_1.39.0.tar.gz PackageFileSize: 1.161 MiB