Package: OSAT Version: 1.59.0 Command: rm -rf OSAT.buildbin-libdir && mkdir OSAT.buildbin-libdir && /Users/biocbuild/BBS/utils/build-universal.sh OSAT_1.59.0.tar.gz /Library/Frameworks/R.framework/Resources/bin/R OSAT.buildbin-libdir StartedAt: 2025-11-27 23:57:20 -0500 (Thu, 27 Nov 2025) EndedAt: 2025-11-27 23:57:23 -0500 (Thu, 27 Nov 2025) EllapsedTime: 3.0 seconds RetCode: 0 Status: OK PackageFile: OSAT_1.59.0.tgz PackageFileSize: 649.1 KiB