Package: NetSAM Version: 1.49.0 Command: /home/biocbuild/bbs-3.22-bioc/R/bin/R CMD INSTALL NetSAM StartedAt: 2025-10-01 15:52:51 -0400 (Wed, 01 Oct 2025) EndedAt: 2025-10-01 15:53:21 -0400 (Wed, 01 Oct 2025) EllapsedTime: 29.8 seconds RetCode: 0 Status: OK