Package: NetSAM Version: 1.49.0 Command: /home/biocbuild/bbs-3.22-bioc/R/bin/R CMD build --keep-empty-dirs --no-resave-data --md5 NetSAM StartedAt: 2025-09-30 19:01:33 -0400 (Tue, 30 Sep 2025) EndedAt: 2025-09-30 19:02:02 -0400 (Tue, 30 Sep 2025) EllapsedTime: 29.0 seconds RetCode: 0 Status: OK PackageFile: NetSAM_1.49.0.tar.gz PackageFileSize: 1.036 MiB