Package: NetPathMiner Version: 1.47.0 Command: /Library/Frameworks/R.framework/Resources/bin/R CMD build --keep-empty-dirs --no-resave-data NetPathMiner StartedAt: 2025-11-27 17:10:22 -0500 (Thu, 27 Nov 2025) EndedAt: 2025-11-27 17:10:35 -0500 (Thu, 27 Nov 2025) EllapsedTime: 13.1 seconds RetCode: 0 Status: OK PackageFile: NetPathMiner_1.47.0.tar.gz PackageFileSize: 2.46 MiB