Package: NanoStringNCTools Version: 1.19.0 Command: /home/biocbuild/bbs-3.23-bioc/R/bin/R CMD INSTALL NanoStringNCTools StartedAt: 2025-11-19 15:19:02 -0500 (Wed, 19 Nov 2025) EndedAt: 2025-11-19 15:19:19 -0500 (Wed, 19 Nov 2025) EllapsedTime: 17.3 seconds RetCode: 0 Status: OK