Package: NanoStringNCTools Version: 1.17.2 Command: /Library/Frameworks/R.framework/Resources/bin/R CMD build --keep-empty-dirs --no-resave-data NanoStringNCTools StartedAt: 2025-10-03 18:09:42 -0400 (Fri, 03 Oct 2025) EndedAt: 2025-10-03 18:10:34 -0400 (Fri, 03 Oct 2025) EllapsedTime: 52.7 seconds RetCode: 0 Status: OK PackageFile: NanoStringNCTools_1.17.2.tar.gz PackageFileSize: 376.8 KiB