Package: NanoStringNCTools Version: 1.17.2 Command: /Library/Frameworks/R.framework/Resources/bin/R CMD INSTALL NanoStringNCTools StartedAt: 2025-09-30 15:08:24 -0400 (Tue, 30 Sep 2025) EndedAt: 2025-09-30 15:08:31 -0400 (Tue, 30 Sep 2025) EllapsedTime: 6.5 seconds RetCode: 0 Status: OK