Package: NanoStringNCTools Version: 1.17.2 Command: /Library/Frameworks/R.framework/Resources/bin/R CMD build --keep-empty-dirs --no-resave-data NanoStringNCTools StartedAt: 2025-09-30 17:14:23 -0400 (Tue, 30 Sep 2025) EndedAt: 2025-09-30 17:14:36 -0400 (Tue, 30 Sep 2025) EllapsedTime: 13.1 seconds RetCode: 0 Status: OK PackageFile: NanoStringNCTools_1.17.2.tar.gz PackageFileSize: 376.9 KiB