Package: NanoStringDiff Version: 1.39.0 Command: /home/biocbuild/R/R/bin/R CMD build --keep-empty-dirs --no-resave-data NanoStringDiff StartedAt: 2025-10-03 01:48:17 -0000 (Fri, 03 Oct 2025) EndedAt: 2025-10-03 01:48:41 -0000 (Fri, 03 Oct 2025) EllapsedTime: 24.0 seconds RetCode: 0 Status: OK PackageFile: NanoStringDiff_1.39.0.tar.gz PackageFileSize: 407.2 KiB